BEGIN:VCALENDAR
VERSION:2.0
PRODID:-//wp-events-plugin.com//7.2.3.1//EN
TZID:America/Chicago
X-WR-TIMEZONE:America/Chicago
BEGIN:VEVENT
UID:1272@wolterinc.com
DTSTART;TZID=America/Chicago:20261104T073000
DTEND;TZID=America/Chicago:20261104T113000
DTSTAMP:20260331T100954Z
URL:https://www.wolterinc.com/training/classes/aerial-lift-operator-traini
 ng-w-fall-protection-40/
SUMMARY:Aerial Lift Operator Training w/ Fall Protection
DESCRIPTION:This specialized class combines standard aerial lift operation 
 with a dedicated focus on personal fall protection systems. Beyond learnin
 g to operate the MEWP\, students receive in-depth instruction on the prope
 r selection\, inspection\, and use of harnesses\, lanyards\, and anchor po
 ints. This course is essential for operations where employees must frequen
 tly work in boom lifts or other platforms where the risk of falling is a p
 rimary safety concern.
ATTACH;FMTTYPE=image/jpeg:https://www.wolterinc.com/wp-content/uploads/202
 6/02/3-3-2-Support_Training_Classes_B.jpg
CATEGORIES:Aerial Lift w/ Fall Protection Classes,Operator Training
 Classes
LOCATION:De Pere\, WI (Green Bay)\, 1768 W Matthew Dr\, De Pere\, Wisconsin
 \, 54115\, United States
GEO:44.426807;-88.096236
X-APPLE-STRUCTURED-LOCATION;VALUE=URI;X-ADDRESS=1768 W Matthew Dr\, De Pere
 \, Wisconsin\, 54115\, United States;X-APPLE-RADIUS=100;X-TITLE=De Pere\, 
 WI (Green Bay):geo:44.426807,-88.096236
END:VEVENT
BEGIN:VTIMEZONE
TZID:America/Chicago
X-LIC-LOCATION:America/Chicago
BEGIN:STANDARD
DTSTART:20261101T010000
TZOFFSETFROM:-0500
TZOFFSETTO:-0600
TZNAME:CST
END:STANDARD
END:VTIMEZONE
END:VCALENDAR