BEGIN:VCALENDAR
VERSION:2.0
PRODID:-//wp-events-plugin.com//7.2.3.1//EN
TZID:America/Chicago
X-WR-TIMEZONE:America/Chicago
BEGIN:VEVENT
UID:1214@wolterinc.com
DTSTART;TZID=America/New_York:20260922T073000
DTEND;TZID=America/New_York:20260923T163000
DTSTAMP:20260416T185934Z
URL:https://www.wolterinc.com/training/classes/forklift-aerial-lift-train-
 the-trainer-49/
SUMMARY:Forklift & Aerial Lift Train-the-Trainer
DESCRIPTION:Ideal for versatile safety instructors\, this dual-certificatio
 n program provides the resources to manage a complete in-house equipment t
 raining department. Over the course of the training\, candidates are prepa
 red to teach and evaluate operators on both forklifts and aerial lifts. Th
 is program is particularly valuable for larger organizations looking to re
 duce long-term training costs by having one internal expert capable of cer
 tifying the entire fleet’s workforce.
ATTACH;FMTTYPE=image/jpeg:https://www.wolterinc.com/wp-content/uploads/202
 6/02/Operator-Training_Classroom_Wire-Forklift.jpg
CATEGORIES:Forklift &amp; Aerial Lift Classes,Train-the-Trainer Classes
LOCATION:Indianapolis\, IN\, 820 S Post Rd\, Indianapolis\, Indiana\, 46239
 \, United States
GEO:39.757551;-86.011689
X-APPLE-STRUCTURED-LOCATION;VALUE=URI;X-ADDRESS=820 S Post Rd\, Indianapoli
 s\, Indiana\, 46239\, United States;X-APPLE-RADIUS=100;X-TITLE=Indianapoli
 s\, IN:geo:39.757551,-86.011689
END:VEVENT
BEGIN:VTIMEZONE
TZID:America/New_York
X-LIC-LOCATION:America/New_York
BEGIN:DAYLIGHT
DTSTART:20260308T030000
TZOFFSETFROM:-0500
TZOFFSETTO:-0400
TZNAME:EDT
END:DAYLIGHT
END:VTIMEZONE
END:VCALENDAR